BEGIN:VCALENDAR
VERSION:2.0
PRODID:-//Bristol Cycle Compendium - ECPv6.15.20//NONSGML v1.0//EN
CALSCALE:GREGORIAN
METHOD:PUBLISH
X-WR-CALNAME:Bristol Cycle Compendium
X-ORIGINAL-URL:https://bristolcycle.info
X-WR-CALDESC:Events for Bristol Cycle Compendium
REFRESH-INTERVAL;VALUE=DURATION:PT1H
X-Robots-Tag:noindex
X-PUBLISHED-TTL:PT1H
BEGIN:VTIMEZONE
TZID:Europe/London
BEGIN:DAYLIGHT
TZOFFSETFROM:+0000
TZOFFSETTO:+0100
TZNAME:BST
DTSTART:20250330T010000
END:DAYLIGHT
BEGIN:STANDARD
TZOFFSETFROM:+0100
TZOFFSETTO:+0000
TZNAME:GMT
DTSTART:20251026T010000
END:STANDARD
BEGIN:DAYLIGHT
TZOFFSETFROM:+0000
TZOFFSETTO:+0100
TZNAME:BST
DTSTART:20260329T010000
END:DAYLIGHT
BEGIN:STANDARD
TZOFFSETFROM:+0100
TZOFFSETTO:+0000
TZNAME:GMT
DTSTART:20261025T010000
END:STANDARD
BEGIN:DAYLIGHT
TZOFFSETFROM:+0000
TZOFFSETTO:+0100
TZNAME:BST
DTSTART:20270328T010000
END:DAYLIGHT
BEGIN:STANDARD
TZOFFSETFROM:+0100
TZOFFSETTO:+0000
TZNAME:GMT
DTSTART:20271031T010000
END:STANDARD
END:VTIMEZONE
BEGIN:VEVENT
DTSTART;TZID=Europe/London:20260409T123000
DTEND;TZID=Europe/London:20260409T160000
DTSTAMP:20260422T191824
CREATED:20260326T143319Z
LAST-MODIFIED:20260326T143319Z
UID:659-1775737800-1775750400@bristolcycle.info
SUMMARY:Bike Maintenance Training
DESCRIPTION:booking required\n 
URL:https://bristolcycle.info/event/bike-maintenance-training/
LOCATION:Hillfields Park Community Centre\, Thicket Ave\,\, Bristol\, BS16 4EH\, United Kingdom
END:VEVENT
BEGIN:VEVENT
DTSTART;TZID=Europe/London:20260405T100000
DTEND;TZID=Europe/London:20260405T170000
DTSTAMP:20260422T191824
CREATED:20260401T153902Z
LAST-MODIFIED:20260401T154656Z
UID:699-1775383200-1775408400@bristolcycle.info
SUMMARY:Lunar Cycles Easter Intro Ride
DESCRIPTION:For those identifying as women (including trans women) and non-binary. \nMeeting Location and time: St George’s Park Church Road Entrance\, 10am \nDistance c.40km \n🌞 No drop! On hills we go at our own speed and meet at the top. \n🍰 Café stop half way ☕️ \nDM if you have any qs 🫶 \n🚴🏽‍♀️Freedom and Solidarity 🌚 \nReminder: these are women/NB rides
URL:https://bristolcycle.info/event/lunar-cycles-easter-intro-ride/
LOCATION:St George’s Park\, Church Road Entrance\, St George’s Park\, Church Road Entrance\, Bristol\, BS5 7AA\, United Kingdom
END:VEVENT
BEGIN:VEVENT
DTSTART;TZID=Europe/London:20260404T100000
DTEND;TZID=Europe/London:20260404T170000
DTSTAMP:20260422T191824
CREATED:20260401T153618Z
LAST-MODIFIED:20260401T154721Z
UID:695-1775296800-1775322000@bristolcycle.info
SUMMARY:Lunar Cycles Hybrid Ride
DESCRIPTION:For those identifying as women (including trans women) and non-binary. \nMeeting Location and time: St George’s Park Church Road Entrance\, 10am \nDistance 50-60km \n🌞 No drop! On hills we go at our own speed and meet at the top. \n🍰 Café stop half way ☕️ \nDM if you have any qs 🫶 \n🚴🏽‍♀️Freedom and Solidarity 🌚 \nReminder: these are women/NB rides
URL:https://bristolcycle.info/event/lunar-cycles-hybrid-ride/
LOCATION:St George’s Park\, Church Road Entrance\, St George’s Park\, Church Road Entrance\, Bristol\, BS5 7AA\, United Kingdom
END:VEVENT
BEGIN:VEVENT
DTSTART;TZID=Europe/London:20260404T093000
DTEND;TZID=Europe/London:20260404T110000
DTSTAMP:20260422T191824
CREATED:20260215T141136Z
LAST-MODIFIED:20260215T141136Z
UID:488-1775295000-1775300400@bristolcycle.info
SUMMARY:Women Ride Bristol
DESCRIPTION:Off road ride – meet 9am at Pedal Progression\, roll out at 9:30am finish back at the start around 11am for coffee at the cafe. \nOpen to all women and marginalised genders
URL:https://bristolcycle.info/event/women-ride-bristol-2/
LOCATION:Pedal Progression\, Ashton Court Estate\, Abbots Leigh Road\, Bristol\, BS8 3PX\, United Kingdom
END:VEVENT
END:VCALENDAR