BEGIN:VCALENDAR
VERSION:2.0
PRODID:-//Bristol Cycle Compendium - ECPv6.15.20//NONSGML v1.0//EN
CALSCALE:GREGORIAN
METHOD:PUBLISH
X-WR-CALNAME:Bristol Cycle Compendium
X-ORIGINAL-URL:https://bristolcycle.info
X-WR-CALDESC:Events for Bristol Cycle Compendium
REFRESH-INTERVAL;VALUE=DURATION:PT1H
X-Robots-Tag:noindex
X-PUBLISHED-TTL:PT1H
BEGIN:VTIMEZONE
TZID:Europe/London
BEGIN:DAYLIGHT
TZOFFSETFROM:+0000
TZOFFSETTO:+0100
TZNAME:BST
DTSTART:20250330T010000
END:DAYLIGHT
BEGIN:STANDARD
TZOFFSETFROM:+0100
TZOFFSETTO:+0000
TZNAME:GMT
DTSTART:20251026T010000
END:STANDARD
BEGIN:DAYLIGHT
TZOFFSETFROM:+0000
TZOFFSETTO:+0100
TZNAME:BST
DTSTART:20260329T010000
END:DAYLIGHT
BEGIN:STANDARD
TZOFFSETFROM:+0100
TZOFFSETTO:+0000
TZNAME:GMT
DTSTART:20261025T010000
END:STANDARD
BEGIN:DAYLIGHT
TZOFFSETFROM:+0000
TZOFFSETTO:+0100
TZNAME:BST
DTSTART:20270328T010000
END:DAYLIGHT
BEGIN:STANDARD
TZOFFSETFROM:+0100
TZOFFSETTO:+0000
TZNAME:GMT
DTSTART:20271031T010000
END:STANDARD
END:VTIMEZONE
BEGIN:VEVENT
DTSTART;TZID=Europe/London:20260419T100000
DTEND;TZID=Europe/London:20260419T170000
DTSTAMP:20260422T124510
CREATED:20260401T154231Z
LAST-MODIFIED:20260401T154849Z
UID:707-1776592800-1776618000@bristolcycle.info
SUMMARY:Lunar Cycles Road Ride
DESCRIPTION:For those identifying as women (including trans women) and non-binary. \nMeeting Location and time: St George’s Park Church Road Entrance\, 10am \nType: Road (min 21km/h ave speed)\nDistance 60-90km \n🌞 No drop! On hills we go at our own speed and meet at the top. \n🍰 Café stop half way ☕️ \nDM if you have any qs 🫶 \n🚴🏽‍♀️Freedom and Solidarity 🌚 \nReminder: these are women/NB rides
URL:https://bristolcycle.info/event/lunar-cycles-road-ride/
LOCATION:St George’s Park\, Church Road Entrance\, St George’s Park\, Church Road Entrance\, Bristol\, BS5 7AA\, United Kingdom
END:VEVENT
BEGIN:VEVENT
DTSTART;TZID=Europe/London:20260419T093000
DTEND;TZID=Europe/London:20260419T170000
DTSTAMP:20260422T124510
CREATED:20260325T140414Z
LAST-MODIFIED:20260325T140414Z
UID:612-1776591000-1776618000@bristolcycle.info
SUMMARY:CTC - Easy/Medium Ride to Berkeley
DESCRIPTION:Country lanes and springtime flowers\n09:30 start at Bristol Parkway Station \n43m (69km) with cafe stops. \nhttps://www.cyclebristolctc.org.uk/calendar
URL:https://bristolcycle.info/event/ctc-easy-medium-ride-to-berkeley/
LOCATION:Bristol Parkway Station\, Station Approach Road\, Bristol\, BS34 8PU
END:VEVENT
BEGIN:VEVENT
DTSTART;TZID=Europe/London:20260416T103000
DTEND;TZID=Europe/London:20260416T160000
DTSTAMP:20260422T124510
CREATED:20260326T143852Z
LAST-MODIFIED:20260326T143852Z
UID:671-1776335400-1776355200@bristolcycle.info
SUMMARY:Bike Maintenance Training
DESCRIPTION:Booking Required\n 
URL:https://bristolcycle.info/event/bike-maintenance-training-3/
LOCATION:Sparks\, 74-76 Broadmead\, Bristol\, BS1 3JA
END:VEVENT
BEGIN:VEVENT
DTSTART;TZID=Europe/London:20260412T100000
DTEND;TZID=Europe/London:20260412T170000
DTSTAMP:20260422T124510
CREATED:20260401T154050Z
LAST-MODIFIED:20260401T154746Z
UID:703-1775988000-1776013200@bristolcycle.info
SUMMARY:Lunar Cycles Hybrid Ride
DESCRIPTION:For those identifying as women (including trans women) and non-binary. \nMeeting Location and time: St George’s Park Church Road Entrance\, 10am \nDistance 50-60km \n🌞 No drop! On hills we go at our own speed and meet at the top. \n🍰 Café stop half way ☕️ \nDM if you have any qs 🫶 \n🚴🏽‍♀️Freedom and Solidarity 🌚 \nReminder: these are women/NB rides
URL:https://bristolcycle.info/event/lunar-cycles-hybrid-ride-2/
LOCATION:St George’s Park\, Church Road Entrance\, St George’s Park\, Church Road Entrance\, Bristol\, BS5 7AA\, United Kingdom
END:VEVENT
BEGIN:VEVENT
DTSTART;TZID=Europe/London:20260411T120000
DTEND;TZID=Europe/London:20260411T160000
DTSTAMP:20260422T124510
CREATED:20260325T180539Z
LAST-MODIFIED:20260325T180539Z
UID:627-1775908800-1775923200@bristolcycle.info
SUMMARY:Dr Bike
DESCRIPTION:Keep your bike happy with Dr Bike.\nIs your bike feeling a bit under the weather? Bring it to Dr Bike – your friendly\, free bike health check! \n\nFree Safety Checks – Our expert mechanics inspect brakes\, gears\, tyres\, and more to keep you safe on the road.\nQuick Fixes on the Spot – Minor issues? We’ll sort them right there and then.\nSave Money – Avoid costly repairs later by catching problems early.\nRide Smoother – A well-tuned bike means a more enjoyable\, efficient ride.\nEco-Friendly Travel – Keep your bike in top shape and keep your carbon footprint low.\nAdvice & Support – New to cycling? We’ll help you feel confident and ready to roll.
URL:https://bristolcycle.info/event/dr-bike/
LOCATION:Sparks\, 74-76 Broadmead\, Bristol\, BS1 3JA
END:VEVENT
BEGIN:VEVENT
DTSTART;TZID=Europe/London:20260409T123000
DTEND;TZID=Europe/London:20260409T160000
DTSTAMP:20260422T124510
CREATED:20260326T143319Z
LAST-MODIFIED:20260326T143319Z
UID:659-1775737800-1775750400@bristolcycle.info
SUMMARY:Bike Maintenance Training
DESCRIPTION:booking required\n 
URL:https://bristolcycle.info/event/bike-maintenance-training/
LOCATION:Hillfields Park Community Centre\, Thicket Ave\,\, Bristol\, BS16 4EH\, United Kingdom
END:VEVENT
BEGIN:VEVENT
DTSTART;TZID=Europe/London:20260405T100000
DTEND;TZID=Europe/London:20260405T170000
DTSTAMP:20260422T124510
CREATED:20260401T153902Z
LAST-MODIFIED:20260401T154656Z
UID:699-1775383200-1775408400@bristolcycle.info
SUMMARY:Lunar Cycles Easter Intro Ride
DESCRIPTION:For those identifying as women (including trans women) and non-binary. \nMeeting Location and time: St George’s Park Church Road Entrance\, 10am \nDistance c.40km \n🌞 No drop! On hills we go at our own speed and meet at the top. \n🍰 Café stop half way ☕️ \nDM if you have any qs 🫶 \n🚴🏽‍♀️Freedom and Solidarity 🌚 \nReminder: these are women/NB rides
URL:https://bristolcycle.info/event/lunar-cycles-easter-intro-ride/
LOCATION:St George’s Park\, Church Road Entrance\, St George’s Park\, Church Road Entrance\, Bristol\, BS5 7AA\, United Kingdom
END:VEVENT
BEGIN:VEVENT
DTSTART;TZID=Europe/London:20260404T100000
DTEND;TZID=Europe/London:20260404T170000
DTSTAMP:20260422T124510
CREATED:20260401T153618Z
LAST-MODIFIED:20260401T154721Z
UID:695-1775296800-1775322000@bristolcycle.info
SUMMARY:Lunar Cycles Hybrid Ride
DESCRIPTION:For those identifying as women (including trans women) and non-binary. \nMeeting Location and time: St George’s Park Church Road Entrance\, 10am \nDistance 50-60km \n🌞 No drop! On hills we go at our own speed and meet at the top. \n🍰 Café stop half way ☕️ \nDM if you have any qs 🫶 \n🚴🏽‍♀️Freedom and Solidarity 🌚 \nReminder: these are women/NB rides
URL:https://bristolcycle.info/event/lunar-cycles-hybrid-ride/
LOCATION:St George’s Park\, Church Road Entrance\, St George’s Park\, Church Road Entrance\, Bristol\, BS5 7AA\, United Kingdom
END:VEVENT
BEGIN:VEVENT
DTSTART;TZID=Europe/London:20260404T093000
DTEND;TZID=Europe/London:20260404T110000
DTSTAMP:20260422T124510
CREATED:20260215T141136Z
LAST-MODIFIED:20260215T141136Z
UID:488-1775295000-1775300400@bristolcycle.info
SUMMARY:Women Ride Bristol
DESCRIPTION:Off road ride – meet 9am at Pedal Progression\, roll out at 9:30am finish back at the start around 11am for coffee at the cafe. \nOpen to all women and marginalised genders
URL:https://bristolcycle.info/event/women-ride-bristol-2/
LOCATION:Pedal Progression\, Ashton Court Estate\, Abbots Leigh Road\, Bristol\, BS8 3PX\, United Kingdom
END:VEVENT
END:VCALENDAR