BEGIN:VCALENDAR
VERSION:2.0
PRODID:-//Bristol Cycle Compendium - ECPv6.15.20//NONSGML v1.0//EN
CALSCALE:GREGORIAN
METHOD:PUBLISH
X-WR-CALNAME:Bristol Cycle Compendium
X-ORIGINAL-URL:https://bristolcycle.info
X-WR-CALDESC:Events for Bristol Cycle Compendium
REFRESH-INTERVAL;VALUE=DURATION:PT1H
X-Robots-Tag:noindex
X-PUBLISHED-TTL:PT1H
BEGIN:VTIMEZONE
TZID:Europe/London
BEGIN:DAYLIGHT
TZOFFSETFROM:+0000
TZOFFSETTO:+0100
TZNAME:BST
DTSTART:20250330T010000
END:DAYLIGHT
BEGIN:STANDARD
TZOFFSETFROM:+0100
TZOFFSETTO:+0000
TZNAME:GMT
DTSTART:20251026T010000
END:STANDARD
BEGIN:DAYLIGHT
TZOFFSETFROM:+0000
TZOFFSETTO:+0100
TZNAME:BST
DTSTART:20260329T010000
END:DAYLIGHT
BEGIN:STANDARD
TZOFFSETFROM:+0100
TZOFFSETTO:+0000
TZNAME:GMT
DTSTART:20261025T010000
END:STANDARD
BEGIN:DAYLIGHT
TZOFFSETFROM:+0000
TZOFFSETTO:+0100
TZNAME:BST
DTSTART:20270328T010000
END:DAYLIGHT
BEGIN:STANDARD
TZOFFSETFROM:+0100
TZOFFSETTO:+0000
TZNAME:GMT
DTSTART:20271031T010000
END:STANDARD
END:VTIMEZONE
BEGIN:VEVENT
DTSTART;TZID=Europe/London:20260704T093000
DTEND;TZID=Europe/London:20260704T110000
DTSTAMP:20260422T110305
CREATED:20260215T141550Z
LAST-MODIFIED:20260215T141550Z
UID:500-1783157400-1783162800@bristolcycle.info
SUMMARY:Women Ride Bristol
DESCRIPTION:Off road ride – meet 9am at Pedal Progression\, roll out at 9:30am finish back at the start around 11am for coffee at the cafe. \nOpen to all women and marginalised genders
URL:https://bristolcycle.info/event/women-ride-bristol-5/
LOCATION:Pedal Progression\, Ashton Court Estate\, Abbots Leigh Road\, Bristol\, BS8 3PX\, United Kingdom
END:VEVENT
BEGIN:VEVENT
DTSTART;TZID=Europe/London:20260704T120000
DTEND;TZID=Europe/London:20260704T160000
DTSTAMP:20260422T110305
CREATED:20260325T181450Z
LAST-MODIFIED:20260325T181450Z
UID:651-1783166400-1783180800@bristolcycle.info
SUMMARY:Dr Bike
DESCRIPTION:Keep your bike happy with Dr Bike.\nIs your bike feeling a bit under the weather? Bring it to Dr Bike – your friendly\, free bike health check! \n\nFree Safety Checks – Our expert mechanics inspect brakes\, gears\, tyres\, and more to keep you safe on the road.\nQuick Fixes on the Spot – Minor issues? We’ll sort them right there and then.\nSave Money – Avoid costly repairs later by catching problems early.\nRide Smoother – A well-tuned bike means a more enjoyable\, efficient ride.\nEco-Friendly Travel – Keep your bike in top shape and keep your carbon footprint low.\nAdvice & Support – New to cycling? We’ll help you feel confident and ready to roll.
URL:https://bristolcycle.info/event/dr-bike-8/
LOCATION:Sparks\, 74-76 Broadmead\, Bristol\, BS1 3JA
END:VEVENT
BEGIN:VEVENT
DTSTART;TZID=Europe/London:20260711T080000
DTEND;TZID=Europe/London:20260711T170000
DTSTAMP:20260422T110305
CREATED:20260325T141106Z
LAST-MODIFIED:20260325T141106Z
UID:620-1783756800-1783789200@bristolcycle.info
SUMMARY:Shred Fest by Ride Bristol
DESCRIPTION:We’re putting on a brand new\, one-day mountain bike festival at Ashton Court\, Bristol and EVERYONE is invited! \nWhether you’re brand new\, riding with your kids\, or out for a proper spin\, it’s all about taking part your\nway. Expect with a mix of playful challenges\, friendly competition\, and good vibes on the trails. \nCome for the riding\, stay for the community\, and the ice cream! And help raise funds for Bristol’s MTB trails.
URL:https://bristolcycle.info/event/shred-fest-by-ride-bristol/
END:VEVENT
BEGIN:VEVENT
DTSTART;TZID=Europe/London:20260719T103000
DTEND;TZID=Europe/London:20260719T170000
DTSTAMP:20260422T110305
CREATED:20260124T134016Z
LAST-MODIFIED:20260124T134016Z
UID:422-1784457000-1784480400@bristolcycle.info
SUMMARY:Queer Cycling July
DESCRIPTION:Social queer bike rides every third Sunday
URL:https://bristolcycle.info/event/queer-cycling-july/
END:VEVENT
BEGIN:VEVENT
DTSTART;TZID=Europe/London:20260731T183000
DTEND;TZID=Europe/London:20260731T200000
DTSTAMP:20260422T110305
CREATED:20260122T141738Z
LAST-MODIFIED:20260124T123233Z
UID:377-1785522600-1785528000@bristolcycle.info
SUMMARY:Critical Mass July
DESCRIPTION:Critical Mass is a monthly bicycle ride to celebrate cycling and to assert cyclists’ right to the road\, happening on the last Friday of every month in most major cities in Europe and America.\n\n\nHere in Bristol we meet at 6.00pm at the corner of College Green near the hotel and statue\, leaving at 6.30pm\, on a route determined as we pedal.\n\n\nWe take a leisurely ride\, allowing us to make our point and communicate effectively with other road users and authorities.\n\n\nFamilies are most welcome. Cycling is for everybody.\n\n\nBy reclaiming public street space from their typical domination by private cars that pollute the air and endanger people\, we hope to raise awareness for:\n\n\n– the benefits of cycling\n– the need for better public transport\n– the need for more cycle lanes\n– cut down your driving\n– increase your fitness\n– car drivers need to chill out\n– cycling is fun and there are lots of like-minded people willing to do something to help the environment.
URL:https://bristolcycle.info/event/july-critical-mass/
LOCATION:College Green\, College Green\, Bristol\, United Kingdom
END:VEVENT
BEGIN:VEVENT
DTSTART;TZID=Europe/London:20260801T093000
DTEND;TZID=Europe/London:20260801T110000
DTSTAMP:20260422T110305
CREATED:20260215T141653Z
LAST-MODIFIED:20260215T141653Z
UID:504-1785576600-1785582000@bristolcycle.info
SUMMARY:Women Ride Bristol
DESCRIPTION:Off road ride – meet 9am at Pedal Progression\, roll out at 9:30am finish back at the start around 11am for coffee at the cafe. \nOpen to all women and marginalised genders
URL:https://bristolcycle.info/event/women-ride-bristol-6/
LOCATION:Pedal Progression\, Ashton Court Estate\, Abbots Leigh Road\, Bristol\, BS8 3PX\, United Kingdom
END:VEVENT
BEGIN:VEVENT
DTSTART;TZID=Europe/London:20260816T103000
DTEND;TZID=Europe/London:20260816T170000
DTSTAMP:20260422T110305
CREATED:20260124T134108Z
LAST-MODIFIED:20260124T134108Z
UID:426-1786876200-1786899600@bristolcycle.info
SUMMARY:Queer Cycling August
DESCRIPTION:Social queer bike rides every third Sunday
URL:https://bristolcycle.info/event/queer-cycling-august/
END:VEVENT
BEGIN:VEVENT
DTSTART;TZID=Europe/London:20260828T183000
DTEND;TZID=Europe/London:20260828T200000
DTSTAMP:20260422T110305
CREATED:20260124T140443Z
LAST-MODIFIED:20260124T140443Z
UID:446-1787941800-1787947200@bristolcycle.info
SUMMARY:Critical Mass August
DESCRIPTION:Critical Mass is a monthly bicycle ride to celebrate cycling and to assert cyclists’ right to the road\, happening on the last Friday of every month in most major cities in Europe and America.\n\n\nHere in Bristol we meet at 6.00pm at the corner of College Green near the hotel and statue\, leaving at 6.30pm\, on a route determined as we pedal.\n\n\nWe take a leisurely ride\, allowing us to make our point and communicate effectively with other road users and authorities.\n\n\nFamilies are most welcome. Cycling is for everybody.\n\n\nBy reclaiming public street space from their typical domination by private cars that pollute the air and endanger people\, we hope to raise awareness for:\n\n\n– the benefits of cycling\n– the need for better public transport\n– the need for more cycle lanes\n– cut down your driving\n– increase your fitness\n– car drivers need to chill out\n– cycling is fun and there are lots of like-minded people willing to do something to help the environment.
URL:https://bristolcycle.info/event/critical-mass-august/
LOCATION:College Green\, College Green\, Bristol\, United Kingdom
END:VEVENT
BEGIN:VEVENT
DTSTART;VALUE=DATE:20260905
DTEND;VALUE=DATE:20260906
DTSTAMP:20260422T110305
CREATED:20260120T161532Z
LAST-MODIFIED:20260120T161532Z
UID:332-1788566400-1788652799@bristolcycle.info
SUMMARY:Disaster Relief Trials
DESCRIPTION:Details to follow
URL:https://bristolcycle.info/event/disaster-relief-trials/
END:VEVENT
BEGIN:VEVENT
DTSTART;TZID=Europe/London:20260905T093000
DTEND;TZID=Europe/London:20260905T110000
DTSTAMP:20260422T110305
CREATED:20260215T141800Z
LAST-MODIFIED:20260215T141800Z
UID:508-1788600600-1788606000@bristolcycle.info
SUMMARY:Women Ride Bristol
DESCRIPTION:Off road ride – meet 9am at Pedal Progression\, roll out at 9:30am finish back at the start around 11am for coffee at the cafe. \nOpen to all women and marginalised genders
URL:https://bristolcycle.info/event/women-ride-bristol-7/
LOCATION:Pedal Progression\, Ashton Court Estate\, Abbots Leigh Road\, Bristol\, BS8 3PX\, United Kingdom
END:VEVENT
BEGIN:VEVENT
DTSTART;TZID=Europe/London:20260920T103000
DTEND;TZID=Europe/London:20260920T170000
DTSTAMP:20260422T110305
CREATED:20260124T134215Z
LAST-MODIFIED:20260124T134215Z
UID:430-1789900200-1789923600@bristolcycle.info
SUMMARY:Queer Cycling September
DESCRIPTION:Social queer bike rides every third Sunday
URL:https://bristolcycle.info/event/queer-cycling-september/
END:VEVENT
BEGIN:VEVENT
DTSTART;TZID=Europe/London:20260925T183000
DTEND;TZID=Europe/London:20260925T200000
DTSTAMP:20260422T110305
CREATED:20260124T140548Z
LAST-MODIFIED:20260124T140548Z
UID:450-1790361000-1790366400@bristolcycle.info
SUMMARY:Critical Mass September
DESCRIPTION:Critical Mass is a monthly bicycle ride to celebrate cycling and to assert cyclists’ right to the road\, happening on the last Friday of every month in most major cities in Europe and America.\n\n\nHere in Bristol we meet at 6.00pm at the corner of College Green near the hotel and statue\, leaving at 6.30pm\, on a route determined as we pedal.\n\n\nWe take a leisurely ride\, allowing us to make our point and communicate effectively with other road users and authorities.\n\n\nFamilies are most welcome. Cycling is for everybody.\n\n\nBy reclaiming public street space from their typical domination by private cars that pollute the air and endanger people\, we hope to raise awareness for:\n\n\n– the benefits of cycling\n– the need for better public transport\n– the need for more cycle lanes\n– cut down your driving\n– increase your fitness\n– car drivers need to chill out\n– cycling is fun and there are lots of like-minded people willing to do something to help the environment.
URL:https://bristolcycle.info/event/critical-mass-september/
LOCATION:College Green\, College Green\, Bristol\, United Kingdom
END:VEVENT
BEGIN:VEVENT
DTSTART;TZID=Europe/London:20261003T093000
DTEND;TZID=Europe/London:20261003T110000
DTSTAMP:20260422T110305
CREATED:20260215T141907Z
LAST-MODIFIED:20260215T141907Z
UID:512-1791019800-1791025200@bristolcycle.info
SUMMARY:Women Ride Bristol
DESCRIPTION:Off road ride – meet 9am at Pedal Progression\, roll out at 9:30am finish back at the start around 11am for coffee at the cafe. \nOpen to all women and marginalised genders
URL:https://bristolcycle.info/event/women-ride-bristol-8/
LOCATION:Pedal Progression\, Ashton Court Estate\, Abbots Leigh Road\, Bristol\, BS8 3PX\, United Kingdom
END:VEVENT
BEGIN:VEVENT
DTSTART;TZID=Europe/London:20261018T103000
DTEND;TZID=Europe/London:20261018T170000
DTSTAMP:20260422T110305
CREATED:20260124T134311Z
LAST-MODIFIED:20260124T134311Z
UID:434-1792319400-1792342800@bristolcycle.info
SUMMARY:Queer Cycling October
DESCRIPTION:Social queer bike rides every third Sunday
URL:https://bristolcycle.info/event/queer-cycling-october/
END:VEVENT
BEGIN:VEVENT
DTSTART;TZID=Europe/London:20261030T183000
DTEND;TZID=Europe/London:20261030T200000
DTSTAMP:20260422T110305
CREATED:20260124T140959Z
LAST-MODIFIED:20260124T140959Z
UID:454-1793385000-1793390400@bristolcycle.info
SUMMARY:Critical Mass October
DESCRIPTION:Critical Mass is a monthly bicycle ride to celebrate cycling and to assert cyclists’ right to the road\, happening on the last Friday of every month in most major cities in Europe and America.\n\n\nHere in Bristol we meet at 6.00pm at the corner of College Green near the hotel and statue\, leaving at 6.30pm\, on a route determined as we pedal.\n\n\nWe take a leisurely ride\, allowing us to make our point and communicate effectively with other road users and authorities.\n\n\nFamilies are most welcome. Cycling is for everybody.\n\n\nBy reclaiming public street space from their typical domination by private cars that pollute the air and endanger people\, we hope to raise awareness for:\n\n\n– the benefits of cycling\n– the need for better public transport\n– the need for more cycle lanes\n– cut down your driving\n– increase your fitness\n– car drivers need to chill out\n– cycling is fun and there are lots of like-minded people willing to do something to help the environment.
URL:https://bristolcycle.info/event/critical-mass-october/
LOCATION:College Green\, College Green\, Bristol\, United Kingdom
END:VEVENT
BEGIN:VEVENT
DTSTART;TZID=Europe/London:20261107T093000
DTEND;TZID=Europe/London:20261107T110000
DTSTAMP:20260422T110305
CREATED:20260215T142016Z
LAST-MODIFIED:20260215T142016Z
UID:516-1794043800-1794049200@bristolcycle.info
SUMMARY:Women Ride Bristol
DESCRIPTION:Off road ride – meet 9am at Pedal Progression\, roll out at 9:30am finish back at the start around 11am for coffee at the cafe. \nOpen to all women and marginalised genders
URL:https://bristolcycle.info/event/women-ride-bristol-9/
LOCATION:Pedal Progression\, Ashton Court Estate\, Abbots Leigh Road\, Bristol\, BS8 3PX\, United Kingdom
END:VEVENT
BEGIN:VEVENT
DTSTART;TZID=Europe/London:20261115T103000
DTEND;TZID=Europe/London:20261115T170000
DTSTAMP:20260422T110305
CREATED:20260124T134416Z
LAST-MODIFIED:20260124T134416Z
UID:438-1794738600-1794762000@bristolcycle.info
SUMMARY:Queer Cycling November
DESCRIPTION:Social queer bike rides every third Sunday
URL:https://bristolcycle.info/event/queer-cycling-november/
END:VEVENT
BEGIN:VEVENT
DTSTART;TZID=Europe/London:20261127T183000
DTEND;TZID=Europe/London:20261127T200000
DTSTAMP:20260422T110305
CREATED:20260124T141114Z
LAST-MODIFIED:20260124T141114Z
UID:458-1795804200-1795809600@bristolcycle.info
SUMMARY:Critical Mass November
DESCRIPTION:Critical Mass is a monthly bicycle ride to celebrate cycling and to assert cyclists’ right to the road\, happening on the last Friday of every month in most major cities in Europe and America.\n\n\nHere in Bristol we meet at 6.00pm at the corner of College Green near the hotel and statue\, leaving at 6.30pm\, on a route determined as we pedal.\n\n\nWe take a leisurely ride\, allowing us to make our point and communicate effectively with other road users and authorities.\n\n\nFamilies are most welcome. Cycling is for everybody.\n\n\nBy reclaiming public street space from their typical domination by private cars that pollute the air and endanger people\, we hope to raise awareness for:\n\n\n– the benefits of cycling\n– the need for better public transport\n– the need for more cycle lanes\n– cut down your driving\n– increase your fitness\n– car drivers need to chill out\n– cycling is fun and there are lots of like-minded people willing to do something to help the environment.
URL:https://bristolcycle.info/event/critical-mass-november/
LOCATION:College Green\, College Green\, Bristol\, United Kingdom
END:VEVENT
BEGIN:VEVENT
DTSTART;TZID=Europe/London:20261205T093000
DTEND;TZID=Europe/London:20261205T110000
DTSTAMP:20260422T110305
CREATED:20260215T142113Z
LAST-MODIFIED:20260215T142113Z
UID:520-1796463000-1796468400@bristolcycle.info
SUMMARY:Women Ride Bristol
DESCRIPTION:Off road ride – meet 9am at Pedal Progression\, roll out at 9:30am finish back at the start around 11am for coffee at the cafe. \nOpen to all women and marginalised genders
URL:https://bristolcycle.info/event/women-ride-bristol-10/
LOCATION:Pedal Progression\, Ashton Court Estate\, Abbots Leigh Road\, Bristol\, BS8 3PX\, United Kingdom
END:VEVENT
BEGIN:VEVENT
DTSTART;TZID=Europe/London:20261220T103000
DTEND;TZID=Europe/London:20261220T170000
DTSTAMP:20260422T110305
CREATED:20260124T134632Z
LAST-MODIFIED:20260124T134632Z
UID:442-1797762600-1797786000@bristolcycle.info
SUMMARY:Queer Cycling December???
DESCRIPTION:Social queer bike rides every third Sunday  \nMay be canceled – check web site
URL:https://bristolcycle.info/event/queer-cycling-december/
END:VEVENT
BEGIN:VEVENT
DTSTART;TZID=Europe/London:20261225T183000
DTEND;TZID=Europe/London:20261225T200000
DTSTAMP:20260422T110305
CREATED:20260124T141253Z
LAST-MODIFIED:20260124T141253Z
UID:462-1798223400-1798228800@bristolcycle.info
SUMMARY:Critical Mass December - date will change.
DESCRIPTION:Critical Mass is a monthly bicycle ride to celebrate cycling and to assert cyclists’ right to the road\, happening on the last Friday of every month in most major cities in Europe and America.\n\n\nHere in Bristol we meet at 6.00pm at the corner of College Green near the hotel and statue\, leaving at 6.30pm\, on a route determined as we pedal.\n\n\nWe take a leisurely ride\, allowing us to make our point and communicate effectively with other road users and authorities.\n\n\nFamilies are most welcome. Cycling is for everybody.\n\n\nBy reclaiming public street space from their typical domination by private cars that pollute the air and endanger people\, we hope to raise awareness for:\n\n\n– the benefits of cycling\n– the need for better public transport\n– the need for more cycle lanes\n– cut down your driving\n– increase your fitness\n– car drivers need to chill out\n– cycling is fun and there are lots of like-minded people willing to do something to help the environment.
URL:https://bristolcycle.info/event/critical-mass-december-date-will-change/
LOCATION:College Green\, College Green\, Bristol\, United Kingdom
END:VEVENT
END:VCALENDAR