BEGIN:VCALENDAR
VERSION:2.0
PRODID:-//Bristol Cycle Compendium - ECPv6.15.20//NONSGML v1.0//EN
CALSCALE:GREGORIAN
METHOD:PUBLISH
X-WR-CALNAME:Bristol Cycle Compendium
X-ORIGINAL-URL:https://bristolcycle.info
X-WR-CALDESC:Events for Bristol Cycle Compendium
REFRESH-INTERVAL;VALUE=DURATION:PT1H
X-Robots-Tag:noindex
X-PUBLISHED-TTL:PT1H
BEGIN:VTIMEZONE
TZID:Europe/London
BEGIN:DAYLIGHT
TZOFFSETFROM:+0000
TZOFFSETTO:+0100
TZNAME:BST
DTSTART:20250330T010000
END:DAYLIGHT
BEGIN:STANDARD
TZOFFSETFROM:+0100
TZOFFSETTO:+0000
TZNAME:GMT
DTSTART:20251026T010000
END:STANDARD
BEGIN:DAYLIGHT
TZOFFSETFROM:+0000
TZOFFSETTO:+0100
TZNAME:BST
DTSTART:20260329T010000
END:DAYLIGHT
BEGIN:STANDARD
TZOFFSETFROM:+0100
TZOFFSETTO:+0000
TZNAME:GMT
DTSTART:20261025T010000
END:STANDARD
BEGIN:DAYLIGHT
TZOFFSETFROM:+0000
TZOFFSETTO:+0100
TZNAME:BST
DTSTART:20270328T010000
END:DAYLIGHT
BEGIN:STANDARD
TZOFFSETFROM:+0100
TZOFFSETTO:+0000
TZNAME:GMT
DTSTART:20271031T010000
END:STANDARD
END:VTIMEZONE
BEGIN:VEVENT
DTSTART;TZID=Europe/London:20260424T113000
DTEND;TZID=Europe/London:20260424T150000
DTSTAMP:20260422T030406
CREATED:20260326T144220Z
LAST-MODIFIED:20260326T144220Z
UID:679-1777030200-1777042800@bristolcycle.info
SUMMARY:Bike Maintenance Training
DESCRIPTION:Booking Required
URL:https://bristolcycle.info/event/bike-maintenance-training-5/
LOCATION:Windmill Hill City Farm\, Philip St\, Bedminster\, Bristol\, BS3 4EA\, United Kingdom
END:VEVENT
BEGIN:VEVENT
DTSTART;TZID=Europe/London:20260424T183000
DTEND;TZID=Europe/London:20260424T200000
DTSTAMP:20260422T030406
CREATED:20260122T141422Z
LAST-MODIFIED:20260124T123336Z
UID:365-1777055400-1777060800@bristolcycle.info
SUMMARY:Critical Mass April
DESCRIPTION:Critical Mass is a monthly bicycle ride to celebrate cycling and to assert cyclists’ right to the road\, happening on the last Friday of every month in most major cities in Europe and America.\n\n\nHere in Bristol we meet at 6.00pm at the corner of College Green near the hotel and statue\, leaving at 6.30pm\, on a route determined as we pedal.\n\n\nWe take a leisurely ride\, allowing us to make our point and communicate effectively with other road users and authorities.\n\n\nFamilies are most welcome. Cycling is for everybody.\n\n\nBy reclaiming public street space from their typical domination by private cars that pollute the air and endanger people\, we hope to raise awareness for:\n\n\n– the benefits of cycling\n– the need for better public transport\n– the need for more cycle lanes\n– cut down your driving\n– increase your fitness\n– car drivers need to chill out\n– cycling is fun and there are lots of like-minded people willing to do something to help the environment.
URL:https://bristolcycle.info/event/critical-mass-4/
LOCATION:College Green\, College Green\, Bristol\, United Kingdom
END:VEVENT
BEGIN:VEVENT
DTSTART;TZID=Europe/London:20260425T093000
DTEND;TZID=Europe/London:20260425T170000
DTSTAMP:20260422T030406
CREATED:20260325T140544Z
LAST-MODIFIED:20260325T140544Z
UID:616-1777109400-1777136400@bristolcycle.info
SUMMARY:CTC - Easy Ride to the AGM at Iron Acton Parish Hall
DESCRIPTION:09:30 start at the Fishponds Fish \nDown Via Nibley. Social lunch after the AGM\, then back through Coalpit Heath. Roundtrip 18 miles (29km). \nAGM 11:00 \n 
URL:https://bristolcycle.info/event/ctc-easy-ride-to-the-agm-at-iron-acton-parish-hall/
LOCATION:Fishponds Fish\, Bristol\, BS16 3US\, United Kingdom
END:VEVENT
BEGIN:VEVENT
DTSTART;TZID=Europe/London:20260425T113000
DTEND;TZID=Europe/London:20260425T160000
DTSTAMP:20260422T030406
CREATED:20260326T144041Z
LAST-MODIFIED:20260326T144041Z
UID:675-1777116600-1777132800@bristolcycle.info
SUMMARY:Bike Maintenance Training
DESCRIPTION:Booking Required
URL:https://bristolcycle.info/event/bike-maintenance-training-4/
LOCATION:Sparks\, 74-76 Broadmead\, Bristol\, BS1 3JA
END:VEVENT
BEGIN:VEVENT
DTSTART;TZID=Europe/London:20260425T120000
DTEND;TZID=Europe/London:20260425T160000
DTSTAMP:20260422T030406
CREATED:20260325T180650Z
LAST-MODIFIED:20260325T180650Z
UID:631-1777118400-1777132800@bristolcycle.info
SUMMARY:Dr Bike
DESCRIPTION:Keep your bike happy with Dr Bike.\nIs your bike feeling a bit under the weather? Bring it to Dr Bike – your friendly\, free bike health check! \n\nFree Safety Checks – Our expert mechanics inspect brakes\, gears\, tyres\, and more to keep you safe on the road.\nQuick Fixes on the Spot – Minor issues? We’ll sort them right there and then.\nSave Money – Avoid costly repairs later by catching problems early.\nRide Smoother – A well-tuned bike means a more enjoyable\, efficient ride.\nEco-Friendly Travel – Keep your bike in top shape and keep your carbon footprint low.\nAdvice & Support – New to cycling? We’ll help you feel confident and ready to roll.
URL:https://bristolcycle.info/event/dr-bike-2/
LOCATION:Sparks\, 74-76 Broadmead\, Bristol\, BS1 3JA
END:VEVENT
BEGIN:VEVENT
DTSTART;TZID=Europe/London:20260426T100000
DTEND;TZID=Europe/London:20260426T170000
DTSTAMP:20260422T030406
CREATED:20260401T154432Z
LAST-MODIFIED:20260401T154810Z
UID:711-1777197600-1777222800@bristolcycle.info
SUMMARY:Lunar Cycles Hybrid Ride
DESCRIPTION:For those identifying as women (including trans women) and non-binary. \nMeeting Location and time: St George’s Park Church Road Entrance\, 10am \nDistance 50-70km \n🌞 No drop! On hills we go at our own speed and meet at the top. \n🍰 Café stop half way ☕️ \nDM if you have any qs 🫶 \n🚴🏽‍♀️Freedom and Solidarity 🌚 \nReminder: these are women/NB rides
URL:https://bristolcycle.info/event/lunar-cycles-hybrid-ride-3/
LOCATION:St George’s Park\, Church Road Entrance\, St George’s Park\, Church Road Entrance\, Bristol\, BS5 7AA\, United Kingdom
END:VEVENT
BEGIN:VEVENT
DTSTART;TZID=Europe/London:20260427T100000
DTEND;TZID=Europe/London:20260427T170000
DTSTAMP:20260422T030406
CREATED:20260401T154625Z
LAST-MODIFIED:20260401T154625Z
UID:715-1777284000-1777309200@bristolcycle.info
SUMMARY:Lunar Cycles Intro Ride
DESCRIPTION:For those identifying as women (including trans women) and non-binary. \nMeeting Location and time: St George’s Park Church Road Entrance\, 10am \nDistance: c. 40km \n🌞 No drop! On hills we go at our own speed and meet at the top. \n🍰 Café stop half way ☕️ \nDM if you have any qs 🫶 \n🚴🏽‍♀️Freedom and Solidarity 🌚 \nReminder: these are women/NB rides
URL:https://bristolcycle.info/event/lunar-cycles-intro-ride/
LOCATION:St George’s Park\, Church Road Entrance\, St George’s Park\, Church Road Entrance\, Bristol\, BS5 7AA\, United Kingdom
END:VEVENT
BEGIN:VEVENT
DTSTART;TZID=Europe/London:20260428T180000
DTEND;TZID=Europe/London:20260428T200000
DTSTAMP:20260422T030406
CREATED:20260415T091759Z
LAST-MODIFIED:20260415T091840Z
UID:743-1777399200-1777406400@bristolcycle.info
SUMMARY:Queer Cycling\, Evening Ride to Snuff Mills and Oldbury Park
DESCRIPTION:Now that it’s a bit more light in the evening we’ll be doing a couple of short evening rides in the city!\nTuesday 28 April: We’ll meet in Castle Park at 6pm\, head out through St Werburgh’s to Stoke Park\, then down into Snuff Mills and Oldbury Park\, before returning to town along the Bristol to Bath path. The whole route is 18km with a couple of ups and downs\, but we’ll go at a relaxed pace and you’re welcome to push if needed! Any bike is suitable. \nAnyone is welcome to join and we’ll ride at a social pace. You can find links to meeting points and routes in the linktree in our bio. Make sure to bring plenty of water and snacks! \nIf you need any support in coming along please get in touch and we’ll help out :))
URL:https://bristolcycle.info/event/queer-cycling-evening-ride-to-snuff-mills-and-oldbury-park/
LOCATION:Castle Park\, Castle Park\, Broad Weir\, Bristol\, BS1 3XB\, United Kingdom
END:VEVENT
BEGIN:VEVENT
DTSTART;TZID=Europe/London:20260502T093000
DTEND;TZID=Europe/London:20260502T110000
DTSTAMP:20260422T030406
CREATED:20260215T141317Z
LAST-MODIFIED:20260215T141317Z
UID:492-1777714200-1777719600@bristolcycle.info
SUMMARY:Women Ride Bristol
DESCRIPTION:Off road ride – meet 9am at Pedal Progression\, roll out at 9:30am finish back at the start around 11am for coffee at the cafe. \nOpen to all women and marginalised genders
URL:https://bristolcycle.info/event/women-ride-bristol-3/
LOCATION:Pedal Progression\, Ashton Court Estate\, Abbots Leigh Road\, Bristol\, BS8 3PX\, United Kingdom
END:VEVENT
BEGIN:VEVENT
DTSTART;TZID=Europe/London:20260509T120000
DTEND;TZID=Europe/London:20260509T160000
DTSTAMP:20260422T030406
CREATED:20260325T180957Z
LAST-MODIFIED:20260325T180957Z
UID:635-1778328000-1778342400@bristolcycle.info
SUMMARY:Dr Bike
DESCRIPTION:Keep your bike happy with Dr Bike.\nIs your bike feeling a bit under the weather? Bring it to Dr Bike – your friendly\, free bike health check! \n\nFree Safety Checks – Our expert mechanics inspect brakes\, gears\, tyres\, and more to keep you safe on the road.\nQuick Fixes on the Spot – Minor issues? We’ll sort them right there and then.\nSave Money – Avoid costly repairs later by catching problems early.\nRide Smoother – A well-tuned bike means a more enjoyable\, efficient ride.\nEco-Friendly Travel – Keep your bike in top shape and keep your carbon footprint low.\nAdvice & Support – New to cycling? We’ll help you feel confident and ready to roll.
URL:https://bristolcycle.info/event/dr-bike-3/
LOCATION:Sparks\, 74-76 Broadmead\, Bristol\, BS1 3JA
END:VEVENT
BEGIN:VEVENT
DTSTART;TZID=Europe/London:20260514T123000
DTEND;TZID=Europe/London:20260514T160000
DTSTAMP:20260422T030406
CREATED:20260326T143620Z
LAST-MODIFIED:20260326T143620Z
UID:666-1778761800-1778774400@bristolcycle.info
SUMMARY:Bike Maintenance Training
DESCRIPTION:booking required
URL:https://bristolcycle.info/event/bike-maintenance-training-2/
LOCATION:Hillfields Park Community Centre\, Thicket Ave\,\, Bristol\, BS16 4EH\, United Kingdom
END:VEVENT
BEGIN:VEVENT
DTSTART;TZID=Europe/London:20260517T103000
DTEND;TZID=Europe/London:20260517T170000
DTSTAMP:20260422T030406
CREATED:20260124T123907Z
LAST-MODIFIED:20260124T123907Z
UID:414-1779013800-1779037200@bristolcycle.info
SUMMARY:Queer Cycling May
DESCRIPTION:Social queer bike rides every third Sunday
URL:https://bristolcycle.info/event/queer-cycling-may/
END:VEVENT
BEGIN:VEVENT
DTSTART;TZID=Europe/London:20260519T180000
DTEND;TZID=Europe/London:20260519T200000
DTSTAMP:20260422T030406
CREATED:20260415T092206Z
LAST-MODIFIED:20260415T092206Z
UID:752-1779213600-1779220800@bristolcycle.info
SUMMARY:Queer Cycling - Evening Ride to Pill
DESCRIPTION:Now that it’s a bit more light in the evening we’ll be doing a couple of short evening rides in the city! \nTuesday 19 May: We’ll meet in Queen’s Square at 6pm then head out through Wapping Wharf\, then joining the Pill Path and following it along the Avon to Pill. We’ll return along the same route and the whole thing is 22km. This one is mostly flat but we’d recommend a hybrid bike if possible. \nAnyone is welcome to join and we’ll ride at a social pace. You can find links to meeting points and routes in the linktree in our bio. Make sure to bring plenty of water and snacks! \nIf you need any support in coming along please get in touch and we’ll help out :))
URL:https://bristolcycle.info/event/queer-cycling-evening-ride-to-pill/
LOCATION:Queen’s Square\, Queen's Square\, Bristol\, BS1 4LH
END:VEVENT
BEGIN:VEVENT
DTSTART;TZID=Europe/London:20260522T113000
DTEND;TZID=Europe/London:20260522T150000
DTSTAMP:20260422T030406
CREATED:20260326T144403Z
LAST-MODIFIED:20260326T144403Z
UID:683-1779449400-1779462000@bristolcycle.info
SUMMARY:Bike Maintenance Training
DESCRIPTION:Booking Required
URL:https://bristolcycle.info/event/bike-maintenance-training-6/
LOCATION:Windmill Hill City Farm\, Philip St\, Bedminster\, Bristol\, BS3 4EA\, United Kingdom
END:VEVENT
BEGIN:VEVENT
DTSTART;TZID=Europe/London:20260523T113000
DTEND;TZID=Europe/London:20260523T160000
DTSTAMP:20260422T030406
CREATED:20260326T144523Z
LAST-MODIFIED:20260326T144523Z
UID:687-1779535800-1779552000@bristolcycle.info
SUMMARY:Bike Maintenance Training
DESCRIPTION:Booking Required
URL:https://bristolcycle.info/event/bike-maintenance-training-7/
LOCATION:Sparks\, 74-76 Broadmead\, Bristol\, BS1 3JA
END:VEVENT
BEGIN:VEVENT
DTSTART;TZID=Europe/London:20260523T120000
DTEND;TZID=Europe/London:20260523T160000
DTSTAMP:20260422T030406
CREATED:20260325T181107Z
LAST-MODIFIED:20260325T181107Z
UID:639-1779537600-1779552000@bristolcycle.info
SUMMARY:Dr Bike
DESCRIPTION:Keep your bike happy with Dr Bike.\nIs your bike feeling a bit under the weather? Bring it to Dr Bike – your friendly\, free bike health check! \n\nFree Safety Checks – Our expert mechanics inspect brakes\, gears\, tyres\, and more to keep you safe on the road.\nQuick Fixes on the Spot – Minor issues? We’ll sort them right there and then.\nSave Money – Avoid costly repairs later by catching problems early.\nRide Smoother – A well-tuned bike means a more enjoyable\, efficient ride.\nEco-Friendly Travel – Keep your bike in top shape and keep your carbon footprint low.\nAdvice & Support – New to cycling? We’ll help you feel confident and ready to roll.
URL:https://bristolcycle.info/event/dr-bike-4/
LOCATION:Sparks\, 74-76 Broadmead\, Bristol\, BS1 3JA
END:VEVENT
BEGIN:VEVENT
DTSTART;TZID=Europe/London:20260528T173000
DTEND;TZID=Europe/London:20260528T200000
DTSTAMP:20260422T030406
CREATED:20260404T163010Z
LAST-MODIFIED:20260405T093821Z
UID:725-1779989400-1779998400@bristolcycle.info
SUMMARY:"City of Cars" Film screening & Road Danger Reduction workshop
DESCRIPTION:https://www.tickettailor.com/events/bristolcyclingcampaign/2144310 \n\n\n\n\n \nBristol Road Justice & Bristol Cycling Campaign present: \nBristol film premiere of Sarah Chaundler’s “City of Cars” followed by Road Danger Reduction Workshop \nIn spite of Bristol Council City (BCC) adopting a “Vision Zero” approach\, aiming for zero deaths or serious injuries by 2030\, our road casualty statistics are not improving. BCC published data reports that during the year ‘24-‘25 138 people were killed or seriously injured on Bristol roads\, that’s an increase of 21% on the previous year. \nA recent media report by Bristol Live ran the headline “44 people killed on Bristol and Somerset roads”. This terrible toll on lives of the victims & their families is the consequence of more than 700 fatal or serious injury collisions that took place last year\, that’s almost two every single day. \nFaced with similarly shocking statistics and especially several child fatalities and casualties in 2023\, campaign group “Better Streets for Birmingham” organised a number of protests on some of the city’s busiest roads. There followed the creation of a national movement “Safe Streets Now” which held demonstrations in towns and cities across the UK\, including in Bristol. Journalist Sarah Chaundler has created a 25 minute film titled “City of Cars”\, premiered in Birmingham last year that documents their work\, the impact of road danger on the lives of local communities and includes an interview with Sir Chris Boardman\, National Active Travel Commissioner. \nWe will be screening the film in Bristol & we are delighted that Sarah will be introducing the film and be available for a Q&A. City of Cars is an insightful and challenging documentary\, whilst it is about Birmingham\, we believe that\, at this time\, it offers a reality check and alarm call for Bristol. \nAfter the screening\, we invite those attending to participate in a short workshop session on road danger reduction\, with the aim to draw the parallels & learn lessons from the Birmingham experience. The workshop sessions are intended to also create an opportunity to build a network of individuals & organisations who will work together to achieve a better outcome on our roads. \nTea\, coffee & water will be available at the venue at no charge \n\n\n\nLocation\nTriodos Foundation\, BS1 5AS
URL:https://bristolcycle.info/event/city-of-cars-film-screening-road-danger-reduction-workshop/
LOCATION:Triodos Foundation\, Deanery Rd\, Bristol\, BS1 5AS
END:VEVENT
BEGIN:VEVENT
DTSTART;TZID=Europe/London:20260529T183000
DTEND;TZID=Europe/London:20260529T200000
DTSTAMP:20260422T030406
CREATED:20260122T141529Z
LAST-MODIFIED:20260124T123318Z
UID:369-1780079400-1780084800@bristolcycle.info
SUMMARY:Critical Mass May
DESCRIPTION:Critical Mass is a monthly bicycle ride to celebrate cycling and to assert cyclists’ right to the road\, happening on the last Friday of every month in most major cities in Europe and America.\n\n\nHere in Bristol we meet at 6.00pm at the corner of College Green near the hotel and statue\, leaving at 6.30pm\, on a route determined as we pedal.\n\n\nWe take a leisurely ride\, allowing us to make our point and communicate effectively with other road users and authorities.\n\n\nFamilies are most welcome. Cycling is for everybody.\n\n\nBy reclaiming public street space from their typical domination by private cars that pollute the air and endanger people\, we hope to raise awareness for:\n\n\n– the benefits of cycling\n– the need for better public transport\n– the need for more cycle lanes\n– cut down your driving\n– increase your fitness\n– car drivers need to chill out\n– cycling is fun and there are lots of like-minded people willing to do something to help the environment.
URL:https://bristolcycle.info/event/may-critical-mass/
LOCATION:College Green\, College Green\, Bristol\, United Kingdom
END:VEVENT
BEGIN:VEVENT
DTSTART;TZID=Europe/London:20260530T080000
DTEND;TZID=Europe/London:20260530T170000
DTSTAMP:20260422T030406
CREATED:20260406T103519Z
LAST-MODIFIED:20260406T103519Z
UID:734-1780128000-1780160400@bristolcycle.info
SUMMARY:CTC - Medium Ride to Somerford Keynes
DESCRIPTION:8 am start at the Fishponds Fish\nHilmarton\, Rodmarton\, Didmarton\, Tormarton\, and a surprise. Small lanes and some hills. Notice the earlier start (it’s a long ride).\nSaturday\, 30 May·08:00 – 08:01\n\n\nSomerford Keynes\n\n\n91m (146km)\nMedium\nCafe and pub stops
URL:https://bristolcycle.info/event/ctc-medium-ride-to-somerford-keynes/
LOCATION:Fishponds Fish\, Bristol\, BS16 3US\, United Kingdom
END:VEVENT
BEGIN:VEVENT
DTSTART;TZID=Europe/London:20260602T190000
DTEND;TZID=Europe/London:20260602T210000
DTSTAMP:20260422T030406
CREATED:20260309T121333Z
LAST-MODIFIED:20260417T135322Z
UID:596-1780426800-1780434000@bristolcycle.info
SUMMARY:Bristol Cycling Campaign AGM
DESCRIPTION:Tickets available from \nhttps://www.tickettailor.com/events/bristolcyclingcampaign/2158377 \n\n\nThis is the 2026 Bristol Cycling Campaign Annual General Meeting.\nThis year’s meeting will again take place in the The Studio at Bristol Beer Factory\, 291 North St\, Southville\, Bristol BS3 1JP\nAs always\, we’ll be reviewing the past year and voting on constitutional matters. \nIn addition\, we are delighted that Zoe Banks Gross will be joining as our guest speaker. Zoe has recently become Co-Chair of the Bristol One City Transport board\, is one of our charity trustees and also a member of the Bristol Walking Alliance committee. \nTicket in advance (Free) is required for entry.\nPlease select from either:\n“member” ticket* – if are a registered current member of Bristol Cycling Campaign\nor “non-member” ticket – if you are not a registered member. \n* this is for voting at the AGM – only registered members can vote on matters at the meeting. \nDoors open from 7pm\nAGM starts at 7.15pm \nFull Agenda TBC\nA pay bar will be available in The Bristol Beer Factory Taproom. The venue will also be serving food to order from its menu until 9pm. \n\n\n\nLocation\nThe Studio at Bristol Beer Factory\, BS3 1JP
URL:https://bristolcycle.info/event/bristol-cycling-campaign-agm/
LOCATION:The Studio at Bristol Beer Factory\, 291 North St\, Southville\, Bristol\, BS3 1JP\, United Kingdom
END:VEVENT
BEGIN:VEVENT
DTSTART;TZID=Europe/London:20260606T080000
DTEND;TZID=Europe/London:20260614T170000
DTSTAMP:20260422T030406
CREATED:20251212T113912Z
LAST-MODIFIED:20251212T113912Z
UID:188-1780732800-1781456400@bristolcycle.info
SUMMARY:Bike Week?
DESCRIPTION:
URL:https://bristolcycle.info/event/bike-week/
END:VEVENT
BEGIN:VEVENT
DTSTART;TZID=Europe/London:20260606T093000
DTEND;TZID=Europe/London:20260606T110000
DTSTAMP:20260422T030406
CREATED:20260215T141436Z
LAST-MODIFIED:20260215T141436Z
UID:496-1780738200-1780743600@bristolcycle.info
SUMMARY:Women Ride Bristol
DESCRIPTION:Off road ride – meet 9am at Pedal Progression\, roll out at 9:30am finish back at the start around 11am for coffee at the cafe. \nOpen to all women and marginalised genders
URL:https://bristolcycle.info/event/women-ride-bristol-4/
LOCATION:Pedal Progression\, Ashton Court Estate\, Abbots Leigh Road\, Bristol\, BS8 3PX\, United Kingdom
END:VEVENT
BEGIN:VEVENT
DTSTART;TZID=Europe/London:20260606T120000
DTEND;TZID=Europe/London:20260606T160000
DTSTAMP:20260422T030406
CREATED:20260325T181243Z
LAST-MODIFIED:20260325T181243Z
UID:643-1780747200-1780761600@bristolcycle.info
SUMMARY:Dr Bike
DESCRIPTION:Keep your bike happy with Dr Bike.\nIs your bike feeling a bit under the weather? Bring it to Dr Bike – your friendly\, free bike health check! \n\nFree Safety Checks – Our expert mechanics inspect brakes\, gears\, tyres\, and more to keep you safe on the road.\nQuick Fixes on the Spot – Minor issues? We’ll sort them right there and then.\nSave Money – Avoid costly repairs later by catching problems early.\nRide Smoother – A well-tuned bike means a more enjoyable\, efficient ride.\nEco-Friendly Travel – Keep your bike in top shape and keep your carbon footprint low.\nAdvice & Support – New to cycling? We’ll help you feel confident and ready to roll.
URL:https://bristolcycle.info/event/dr-bike-6/
LOCATION:Sparks\, 74-76 Broadmead\, Bristol\, BS1 3JA
END:VEVENT
BEGIN:VEVENT
DTSTART;TZID=Europe/London:20260620T120000
DTEND;TZID=Europe/London:20260620T160000
DTSTAMP:20260422T030406
CREATED:20260325T181340Z
LAST-MODIFIED:20260325T181340Z
UID:647-1781956800-1781971200@bristolcycle.info
SUMMARY:Dr Bike
DESCRIPTION:Keep your bike happy with Dr Bike.\nIs your bike feeling a bit under the weather? Bring it to Dr Bike – your friendly\, free bike health check! \n\nFree Safety Checks – Our expert mechanics inspect brakes\, gears\, tyres\, and more to keep you safe on the road.\nQuick Fixes on the Spot – Minor issues? We’ll sort them right there and then.\nSave Money – Avoid costly repairs later by catching problems early.\nRide Smoother – A well-tuned bike means a more enjoyable\, efficient ride.\nEco-Friendly Travel – Keep your bike in top shape and keep your carbon footprint low.\nAdvice & Support – New to cycling? We’ll help you feel confident and ready to roll.
URL:https://bristolcycle.info/event/dr-bike-7/
LOCATION:Sparks\, 74-76 Broadmead\, Bristol\, BS1 3JA
END:VEVENT
BEGIN:VEVENT
DTSTART;TZID=Europe/London:20260621T103000
DTEND;TZID=Europe/London:20260621T170000
DTSTAMP:20260422T030406
CREATED:20260124T133910Z
LAST-MODIFIED:20260124T133910Z
UID:418-1782037800-1782061200@bristolcycle.info
SUMMARY:Queer Cycling June
DESCRIPTION:Social queer bike rides every third Sunday
URL:https://bristolcycle.info/event/queer-cycling-june/
END:VEVENT
BEGIN:VEVENT
DTSTART;TZID=Europe/London:20260626T183000
DTEND;TZID=Europe/London:20260626T200000
DTSTAMP:20260422T030406
CREATED:20260122T141631Z
LAST-MODIFIED:20260215T140301Z
UID:373-1782498600-1782504000@bristolcycle.info
SUMMARY:Critical Mass June
DESCRIPTION:Critical Mass is a monthly bicycle ride to celebrate cycling and to assert cyclists’ right to the road\, happening on the last Friday of every month in most major cities in Europe and America.\n\n\nHere in Bristol we meet at 6.00pm at the corner of College Green near the hotel and statue\, leaving at 6.30pm\, on a route determined as we pedal.\n\n\nWe take a leisurely ride\, allowing us to make our point and communicate effectively with other road users and authorities.\n\n\nFamilies are most welcome. Cycling is for everybody.\n\n\nBy reclaiming public street space from their typical domination by private cars that pollute the air and endanger people\, we hope to raise awareness for:\n\n\n– the benefits of cycling\n– the need for better public transport\n– the need for more cycle lanes\n– cut down your driving\n– increase your fitness\n– car drivers need to chill out\n– cycling is fun and there are lots of like-minded people willing to do something to help the environment.
URL:https://bristolcycle.info/event/june-critical-mass/
LOCATION:College Green\, College Green\, Bristol\, United Kingdom
END:VEVENT
BEGIN:VEVENT
DTSTART;TZID=Europe/London:20260704T093000
DTEND;TZID=Europe/London:20260704T110000
DTSTAMP:20260422T030406
CREATED:20260215T141550Z
LAST-MODIFIED:20260215T141550Z
UID:500-1783157400-1783162800@bristolcycle.info
SUMMARY:Women Ride Bristol
DESCRIPTION:Off road ride – meet 9am at Pedal Progression\, roll out at 9:30am finish back at the start around 11am for coffee at the cafe. \nOpen to all women and marginalised genders
URL:https://bristolcycle.info/event/women-ride-bristol-5/
LOCATION:Pedal Progression\, Ashton Court Estate\, Abbots Leigh Road\, Bristol\, BS8 3PX\, United Kingdom
END:VEVENT
BEGIN:VEVENT
DTSTART;TZID=Europe/London:20260704T120000
DTEND;TZID=Europe/London:20260704T160000
DTSTAMP:20260422T030406
CREATED:20260325T181450Z
LAST-MODIFIED:20260325T181450Z
UID:651-1783166400-1783180800@bristolcycle.info
SUMMARY:Dr Bike
DESCRIPTION:Keep your bike happy with Dr Bike.\nIs your bike feeling a bit under the weather? Bring it to Dr Bike – your friendly\, free bike health check! \n\nFree Safety Checks – Our expert mechanics inspect brakes\, gears\, tyres\, and more to keep you safe on the road.\nQuick Fixes on the Spot – Minor issues? We’ll sort them right there and then.\nSave Money – Avoid costly repairs later by catching problems early.\nRide Smoother – A well-tuned bike means a more enjoyable\, efficient ride.\nEco-Friendly Travel – Keep your bike in top shape and keep your carbon footprint low.\nAdvice & Support – New to cycling? We’ll help you feel confident and ready to roll.
URL:https://bristolcycle.info/event/dr-bike-8/
LOCATION:Sparks\, 74-76 Broadmead\, Bristol\, BS1 3JA
END:VEVENT
BEGIN:VEVENT
DTSTART;TZID=Europe/London:20260711T080000
DTEND;TZID=Europe/London:20260711T170000
DTSTAMP:20260422T030406
CREATED:20260325T141106Z
LAST-MODIFIED:20260325T141106Z
UID:620-1783756800-1783789200@bristolcycle.info
SUMMARY:Shred Fest by Ride Bristol
DESCRIPTION:We’re putting on a brand new\, one-day mountain bike festival at Ashton Court\, Bristol and EVERYONE is invited! \nWhether you’re brand new\, riding with your kids\, or out for a proper spin\, it’s all about taking part your\nway. Expect with a mix of playful challenges\, friendly competition\, and good vibes on the trails. \nCome for the riding\, stay for the community\, and the ice cream! And help raise funds for Bristol’s MTB trails.
URL:https://bristolcycle.info/event/shred-fest-by-ride-bristol/
END:VEVENT
BEGIN:VEVENT
DTSTART;TZID=Europe/London:20260719T103000
DTEND;TZID=Europe/London:20260719T170000
DTSTAMP:20260422T030406
CREATED:20260124T134016Z
LAST-MODIFIED:20260124T134016Z
UID:422-1784457000-1784480400@bristolcycle.info
SUMMARY:Queer Cycling July
DESCRIPTION:Social queer bike rides every third Sunday
URL:https://bristolcycle.info/event/queer-cycling-july/
END:VEVENT
END:VCALENDAR